BEGIN:VCALENDAR
VERSION:2.0
PRODID:-//Kino Tuškanac//Filmski programi//HR
BEGIN:VEVENT
UID:f8ff9d0414effccabfa2cb1cbfa22f67@kinotuskanac.hr
DTSTAMP:20260423T145843Z
DTSTART:20191201T210000
DTEND:20191201T230000
SUMMARY:Južni terminal
LOCATION:Kino Tuškanac
DESCRIPTION:Terminal Sud, Francuska, 2019 R: Rabah Ameur-Zaimeche
END:VEVENT
END:VCALENDAR