BEGIN:VCALENDAR
VERSION:2.0
PRODID:-//Kino Tuškanac//Filmski programi//HR
BEGIN:VEVENT
UID:eef19216ba26eff39a7b8d1d13dd5d52@kinotuskanac.hr
DTSTAMP:20260423T182037Z
DTSTART:20191202T190000
DTEND:20191202T210000
SUMMARY:Martin Eden
LOCATION:Kino Tuškanac
DESCRIPTION:Italija, Francuska, 2019 R: Pietro Marcello
END:VEVENT
END:VCALENDAR