BEGIN:VCALENDAR
VERSION:2.0
PRODID:-//Kino Tuškanac//Filmski programi//HR
BEGIN:VEVENT
UID:1f1f1615794974b17a349559b7060920@kinotuskanac.hr
DTSTAMP:20260426T010959Z
DTSTART:20191203T210000
DTEND:20191203T230000
SUMMARY:Prazni sati
LOCATION:Kino Tuškanac
DESCRIPTION:Vacant Hours, Njemačka, Hrvatska, 2019 R: Mate Ugrin
END:VEVENT
END:VCALENDAR