BEGIN:VCALENDAR
VERSION:2.0
PRODID:-//Kino Tuškanac//Filmski programi//HR
BEGIN:VEVENT
UID:1c92d6d95bffddb7d9187df72cc0604a@kinotuskanac.hr
DTSTAMP:20260425T203709Z
DTSTART:20191205T190000
DTEND:20191205T210000
SUMMARY:Zaboravljeni slučaj Hammarsköjld
LOCATION:Kino Tuškanac
DESCRIPTION:Cold Case Hammarskjöld, Danska, Norveška, Švedska, Belgija, 2019 R: Mads Brügger
END:VEVENT
END:VCALENDAR