BEGIN:VCALENDAR
VERSION:2.0
PRODID:-//Kino Tuškanac//Filmski programi//HR
BEGIN:VEVENT
UID:ec3e8c1647486211b319c34d11bda98a@kinotuskanac.hr
DTSTAMP:20260420T231109Z
DTSTART:20191206T163000
DTEND:20191206T183000
SUMMARY:Državni pogreb
LOCATION:Kino Tuškanac
DESCRIPTION:Nizozemska, Litva, 2019 R: Sergej Loznica
END:VEVENT
END:VCALENDAR