BEGIN:VCALENDAR
VERSION:2.0
PRODID:-//Kino Tuškanac//Filmski programi//HR
BEGIN:VEVENT
UID:5e782aa822cd3723b28401abbac17d28@kinotuskanac.hr
DTSTAMP:20260424T011435Z
DTSTART:20191208T150000
DTEND:20191208T170000
SUMMARY:Heimat je prostor od vremena
LOCATION:Kino Tuškanac
DESCRIPTION:Heimat ist ein Raum aus Zeit, Njemačka, Austrija, 2019 R: Thomas Heise
END:VEVENT
END:VCALENDAR