BEGIN:VCALENDAR
VERSION:2.0
PRODID:-//Kino Tuškanac//Filmski programi//HR
BEGIN:VEVENT
UID:8107348d9c6959d82a53aca8e67a5ac5@kinotuskanac.hr
DTSTAMP:20260425T031447Z
DTSTART:20191217T190000
DTEND:20191217T210000
SUMMARY:Dnevnik
LOCATION:Kino Tuškanac
DESCRIPTION:Kino-klub Split, 1964 R: Lordan Zafranović
END:VEVENT
END:VCALENDAR