BEGIN:VCALENDAR
VERSION:2.0
PRODID:-//Kino Tuškanac//Filmski programi//HR
BEGIN:VEVENT
UID:1e3e0e6dc8bbc00fbee021f42b3ebb54@kinotuskanac.hr
DTSTAMP:20260423T143853Z
DTSTART:20050630T190000
DTEND:20050630T210000
SUMMARY:Daleko od Vijetnama
LOCATION:Kino Tuškanac
DESCRIPTION:Loin du Vietnam, 1967. R: Jean-Luc Godard, Alain Resnais, Agnès Varda, Claude Lelouch
END:VEVENT
END:VCALENDAR