BEGIN:VCALENDAR
VERSION:2.0
PRODID:-//Kino Tuškanac//Filmski programi//HR
BEGIN:VEVENT
UID:f3b28a1caec620d90177533368d0beb7@kinotuskanac.hr
DTSTAMP:20260425T004554Z
DTSTART:20191218T190000
DTEND:20191218T210000
SUMMARY:Bene, Napoleon iz Rogoznice
LOCATION:Kino Tuškanac
DESCRIPTION:Zagreb film, Jugoslavija, 1974 R: Nikola Babić
END:VEVENT
END:VCALENDAR