BEGIN:VCALENDAR
VERSION:2.0
PRODID:-//Kino Tuškanac//Filmski programi//HR
BEGIN:VEVENT
UID:4c43f1583108020b40bc86c1f0165f73@kinotuskanac.hr
DTSTAMP:20260425T015700Z
DTSTART:20191218T190000
DTEND:20191218T210000
SUMMARY:Gaziovac
LOCATION:Kino Tuškanac
DESCRIPTION:Jadran film, Jugoslavija, 1974 R: Nikola Babić
END:VEVENT
END:VCALENDAR