BEGIN:VCALENDAR
VERSION:2.0
PRODID:-//Kino Tuškanac//Filmski programi//HR
BEGIN:VEVENT
UID:5e713baa19bfdd9c4f0fbdbac5883f89@kinotuskanac.hr
DTSTAMP:20260423T145602Z
DTSTART:20050630T210000
DTEND:20050630T230000
SUMMARY:JLG - JLG
LOCATION:Kino Tuškanac
DESCRIPTION:1996 R: Jean-Luc Godard
END:VEVENT
END:VCALENDAR