BEGIN:VCALENDAR
VERSION:2.0
PRODID:-//Kino Tuškanac//Filmski programi//HR
BEGIN:VEVENT
UID:f470c88086e747c8656fbc7e64391c8a@kinotuskanac.hr
DTSTAMP:20260421T182422Z
DTSTART:20191213T190000
DTEND:20191213T210000
SUMMARY:Crni Narcis
LOCATION:Kino Tuškanac
DESCRIPTION:Black Narcissus, UK, 1947 R: Michael Powell
END:VEVENT
END:VCALENDAR