BEGIN:VCALENDAR
VERSION:2.0
PRODID:-//Kino Tuškanac//Filmski programi//HR
BEGIN:VEVENT
UID:51af01448610748718cfbaba62fe4b8c@kinotuskanac.hr
DTSTAMP:20260423T113446Z
DTSTART:20191213T210000
DTEND:20191213T230000
SUMMARY:Canterburyjska priča
LOCATION:Kino Tuškanac
DESCRIPTION:A Canterbury Tale, UK, 1944 R: Michael Powell
END:VEVENT
END:VCALENDAR