BEGIN:VCALENDAR
VERSION:2.0
PRODID:-//Kino Tuškanac//Filmski programi//HR
BEGIN:VEVENT
UID:47c2a92f4b14aee6fbf47aa70cd2a8ae@kinotuskanac.hr
DTSTAMP:20260419T141429Z
DTSTART:20191214T190000
DTEND:20191214T210000
SUMMARY:Život i smrt pukovnika Blimpa
LOCATION:Kino Tuškanac
DESCRIPTION:The Life and Death of Colonel Blimp, UK, 1943 R: Michael Powell
END:VEVENT
END:VCALENDAR