BEGIN:VCALENDAR
VERSION:2.0
PRODID:-//Kino Tuškanac//Filmski programi//HR
BEGIN:VEVENT
UID:94e4a992c246f9b03cd629f62b0ce55a@kinotuskanac.hr
DTSTAMP:20260422T061325Z
DTSTART:20191217T170000
DTEND:20191217T190000
SUMMARY:Zrcalo (1997)
LOCATION:Kino Tuškanac
DESCRIPTION:Ayneh, Iran, 1997 R: Jafar Panahi
END:VEVENT
END:VCALENDAR