BEGIN:VCALENDAR
VERSION:2.0
PRODID:-//Kino Tuškanac//Filmski programi//HR
BEGIN:VEVENT
UID:d96ea199d2787df944b0f485e05c755d@kinotuskanac.hr
DTSTAMP:20260421T201221Z
DTSTART:20191221T190000
DTEND:20191221T210000
SUMMARY:Amarcord
LOCATION:Kino Tuškanac
DESCRIPTION:Italija, Francuska, 1973 R: Federico Fellini
END:VEVENT
END:VCALENDAR