BEGIN:VCALENDAR
VERSION:2.0
PRODID:-//Kino Tuškanac//Filmski programi//HR
BEGIN:VEVENT
UID:38c8128a333e1f8bdd18a1ac73f9e03b@kinotuskanac.hr
DTSTAMP:20260421T093044Z
DTSTART:20200102T190000
DTEND:20200102T210000
SUMMARY:Pričaj s njom
LOCATION:Kino Tuškanac
DESCRIPTION:Hable con ella, Španjolska, 2002 R: Pedro Almodóvar
END:VEVENT
END:VCALENDAR