BEGIN:VCALENDAR
VERSION:2.0
PRODID:-//Kino Tuškanac//Filmski programi//HR
BEGIN:VEVENT
UID:b91471158debcdc2c222702eba7391bd@kinotuskanac.hr
DTSTAMP:20260420T165545Z
DTSTART:20200107T190000
DTEND:20200107T210000
SUMMARY:Matador
LOCATION:Kino Tuškanac
DESCRIPTION:Španjolska, 1986 R: Pedro Almodóvar
END:VEVENT
END:VCALENDAR