BEGIN:VCALENDAR
VERSION:2.0
PRODID:-//Kino Tuškanac//Filmski programi//HR
BEGIN:VEVENT
UID:1da5034ba15b4d066d3866d1a8f8d8c6@kinotuskanac.hr
DTSTAMP:20260420T165841Z
DTSTART:20200107T210000
DTEND:20200107T230000
SUMMARY:Kika
LOCATION:Kino Tuškanac
DESCRIPTION:Španjolska, 1993 R: Pedro Almodóvar
END:VEVENT
END:VCALENDAR