BEGIN:VCALENDAR
VERSION:2.0
PRODID:-//Kino Tuškanac//Filmski programi//HR
BEGIN:VEVENT
UID:b6b959576c1a2f74f9004fc0c9b858e4@kinotuskanac.hr
DTSTAMP:20260421T151255Z
DTSTART:20200109T190000
DTEND:20200109T210000
SUMMARY:Vraćam se
LOCATION:Kino Tuškanac
DESCRIPTION:Volver, Španjolska, 2006 R: Pedro Almodóvar
END:VEVENT
END:VCALENDAR