BEGIN:VCALENDAR
VERSION:2.0
PRODID:-//Kino Tuškanac//Filmski programi//HR
BEGIN:VEVENT
UID:77b2c146fa80db3dbb104dd014c64d1a@kinotuskanac.hr
DTSTAMP:20260420T165717Z
DTSTART:20200109T210000
DTEND:20200109T230000
SUMMARY:Čime sam to zaslužila?
LOCATION:Kino Tuškanac
DESCRIPTION:Qué he hecho yo para merecer esto?, Španjolska, 1984 R: Pedro Almodóvar
END:VEVENT
END:VCALENDAR