BEGIN:VCALENDAR
VERSION:2.0
PRODID:-//Kino Tuškanac//Filmski programi//HR
BEGIN:VEVENT
UID:3075849d372070a68cba2b70faef0400@kinotuskanac.hr
DTSTAMP:20260420T195726Z
DTSTART:20200111T191500
DTEND:20200111T211500
SUMMARY:Julieta
LOCATION:Kino Tuškanac
DESCRIPTION:Španjolska, 2016 R: Pedro Almodóvar
END:VEVENT
END:VCALENDAR