BEGIN:VCALENDAR
VERSION:2.0
PRODID:-//Kino Tuškanac//Filmski programi//HR
BEGIN:VEVENT
UID:cbf5fae4400700d134291fec6b465248@kinotuskanac.hr
DTSTAMP:20260423T112253Z
DTSTART:20020129T170000
DTEND:20020129T190000
SUMMARY:Naše ljubavi
LOCATION:Kino Tuškanac
DESCRIPTION:À nos amours, 1983 R: Maurice Pialat
END:VEVENT
END:VCALENDAR