BEGIN:VCALENDAR
VERSION:2.0
PRODID:-//Kino Tuškanac//Filmski programi//HR
BEGIN:VEVENT
UID:467b271063a22a8607a0ece9bf96b6c9@kinotuskanac.hr
DTSTAMP:20260420T114746Z
DTSTART:20050508T190000
DTEND:20050508T210000
SUMMARY:Kozara
LOCATION:Kino Tuškanac
DESCRIPTION:Jugoslavija: Hrvatska, 1962 | Mjesto prikazivanja filma: MM Centar (Studentski centar, Savska cesta 25) R: Veljko Bulajić
END:VEVENT
END:VCALENDAR