BEGIN:VCALENDAR
VERSION:2.0
PRODID:-//Kino Tuškanac//Filmski programi//HR
BEGIN:VEVENT
UID:11b69ed2599000e9821e3310a66539fd@kinotuskanac.hr
DTSTAMP:20260420T124356Z
DTSTART:20050508T211500
DTEND:20050508T231500
SUMMARY:Doviđenja, djeco
LOCATION:Kino Tuškanac
DESCRIPTION:Au revoir les enfants, 1987 R: Louis Malle
END:VEVENT
END:VCALENDAR