BEGIN:VCALENDAR
VERSION:2.0
PRODID:-//Kino Tuškanac//Filmski programi//HR
BEGIN:VEVENT
UID:62d1ecc80d5eb23adf9d20a59bb8a83a@kinotuskanac.hr
DTSTAMP:20260421T093043Z
DTSTART:20200118T211500
DTEND:20200118T231500
SUMMARY:Noć
LOCATION:Kino Tuškanac
DESCRIPTION:La notte, Italija, Francuska, 1961 R: Michelangelo Antonioni
END:VEVENT
END:VCALENDAR