BEGIN:VCALENDAR
VERSION:2.0
PRODID:-//Kino Tuškanac//Filmski programi//HR
BEGIN:VEVENT
UID:38092dc094e4644e0a58f6b5c6db6ac0@kinotuskanac.hr
DTSTAMP:20260421T220720Z
DTSTART:20200130T210000
DTEND:20200130T230000
SUMMARY:Sve džaba
LOCATION:Kino Tuškanac
DESCRIPTION:Hrvatska, Srbija, Bosna i Hercegovina, 2006 R: Antonio Nuić
END:VEVENT
END:VCALENDAR