BEGIN:VCALENDAR
VERSION:2.0
PRODID:-//Kino Tuškanac//Filmski programi//HR
BEGIN:VEVENT
UID:433d6ba7e57740493fb9102c5d4d0ece@kinotuskanac.hr
DTSTAMP:20260419T185916Z
DTSTART:20200201T190000
DTEND:20200201T210000
SUMMARY:Bilo jednom u Anadoliji
LOCATION:Kino Tuškanac
DESCRIPTION:Bir Zamanlar Anadolu’da, Turska, Bosna i Hercegovina, 2011 R: Nuri Bilge Ceylan
END:VEVENT
END:VCALENDAR