BEGIN:VCALENDAR
VERSION:2.0
PRODID:-//Kino Tuškanac//Filmski programi//HR
BEGIN:VEVENT
UID:f447bc9f53f948317bd551c05b043dc8@kinotuskanac.hr
DTSTAMP:20260419T141523Z
DTSTART:20200203T210000
DTEND:20200203T230000
SUMMARY:Grad
LOCATION:Kino Tuškanac
DESCRIPTION:Kasaba, Turska, 1997 R: Nuri Bilge Ceylan
END:VEVENT
END:VCALENDAR