BEGIN:VCALENDAR
VERSION:2.0
PRODID:-//Kino Tuškanac//Filmski programi//HR
BEGIN:VEVENT
UID:bf6e6f382be86c262cecf0b173332844@kinotuskanac.hr
DTSTAMP:20260423T111437Z
DTSTART:20200204T210000
DTEND:20200204T230000
SUMMARY:Klime
LOCATION:Kino Tuškanac
DESCRIPTION:Iklimler, Turska, Francuska, 2006 R: Nuri Bilge Ceylan
END:VEVENT
END:VCALENDAR