BEGIN:VCALENDAR
VERSION:2.0
PRODID:-//Kino Tuškanac//Filmski programi//HR
BEGIN:VEVENT
UID:c410e02e7430f34c1065c2db41849266@kinotuskanac.hr
DTSTAMP:20260421T164319Z
DTSTART:20200215T190000
DTEND:20200215T210000
SUMMARY:Slatki život
LOCATION:Kino Tuškanac
DESCRIPTION:La dolce vita, Italija, Francuska, 1960 R: Federico Fellini
END:VEVENT
END:VCALENDAR