BEGIN:VCALENDAR
VERSION:2.0
PRODID:-//Kino Tuškanac//Filmski programi//HR
BEGIN:VEVENT
UID:a8fe61704818424b8b4b93dc4e38dc29@kinotuskanac.hr
DTSTAMP:20260421T200944Z
DTSTART:20200218T190000
DTEND:20200218T210000
SUMMARY:Rim
LOCATION:Kino Tuškanac
DESCRIPTION:Roma, Italija, Francuska, 1972 R: Federico Fellini
END:VEVENT
END:VCALENDAR