BEGIN:VCALENDAR
VERSION:2.0
PRODID:-//Kino Tuškanac//Filmski programi//HR
BEGIN:VEVENT
UID:359a09b9ef10c213e3706062163d126b@kinotuskanac.hr
DTSTAMP:20260421T113626Z
DTSTART:20200221T190000
DTEND:20200221T210000
SUMMARY:Tanka crvena linija
LOCATION:Kino Tuškanac
DESCRIPTION:The Thin Red Line, SAD, 1998 R: Terrence Malick
END:VEVENT
END:VCALENDAR