BEGIN:VCALENDAR
VERSION:2.0
PRODID:-//Kino Tuškanac//Filmski programi//HR
BEGIN:VEVENT
UID:5b56901612172eba478ad3dc553431cf@kinotuskanac.hr
DTSTAMP:20260421T133148Z
DTSTART:20050615T210000
DTEND:20050615T230000
SUMMARY:Prije kiše
LOCATION:Kino Tuškanac
DESCRIPTION:Before the Rain, Republika Makedonija, Francuska, UK, 1994 R: Milčo Mančevski
END:VEVENT
END:VCALENDAR