BEGIN:VCALENDAR
VERSION:2.0
PRODID:-//Kino Tuškanac//Filmski programi//HR
BEGIN:VEVENT
UID:6842c9fc94c51112fcaf3a5427117001@kinotuskanac.hr
DTSTAMP:20260422T215131Z
DTSTART:20020129T190000
DTEND:20020129T210000
SUMMARY:Majka i prostitutka
LOCATION:Kino Tuškanac
DESCRIPTION:La maman et la putain, Francuska, 1973 | Mjesto prikazivanja filma: Kino Forum (SD Stjepan Radić, Jarunska ul. 2) R: Jean Eustache
END:VEVENT
END:VCALENDAR