BEGIN:VCALENDAR
VERSION:2.0
PRODID:-//Kino Tuškanac//Filmski programi//HR
BEGIN:VEVENT
UID:20bd2178ae6fd7c22e0e77fd7e51179f@kinotuskanac.hr
DTSTAMP:20260425T015524Z
DTSTART:20200304T190000
DTEND:20200304T210000
SUMMARY:Lisice
LOCATION:Kino Tuškanac
DESCRIPTION:Jugoslavija, Jadran film, 1970 R: Krsto Papić
END:VEVENT
END:VCALENDAR