BEGIN:VCALENDAR
VERSION:2.0
PRODID:-//Kino Tuškanac//Filmski programi//HR
BEGIN:VEVENT
UID:ed37523f1b7269d7fa680c2b12a0fa7a@kinotuskanac.hr
DTSTAMP:20260421T012155Z
DTSTART:20200308T150000
DTEND:20200308T170000
SUMMARY:Moje dvadeseto stoljeće
LOCATION:Kino Tuškanac
DESCRIPTION:Az én XX. Századom, Mađarska, Zapadna Njemačka, Kuba, 1989 R: Ildikó Enyedi
END:VEVENT
END:VCALENDAR