BEGIN:VCALENDAR
VERSION:2.0
PRODID:-//Kino Tuškanac//Filmski programi//HR
BEGIN:VEVENT
UID:694064b1f8a5cc818d9ea75e4d2835ae@kinotuskanac.hr
DTSTAMP:20260420T052521Z
DTSTART:20200308T190000
DTEND:20200308T210000
SUMMARY:Anđeo za mojim stolom
LOCATION:Kino Tuškanac
DESCRIPTION:An Angel at My Table, Novi Zeland, Australija, UK, SAD, 1990 R: Jane Campion
END:VEVENT
END:VCALENDAR