BEGIN:VCALENDAR
VERSION:2.0
PRODID:-//Kino Tuškanac//Filmski programi//HR
BEGIN:VEVENT
UID:20ed54130e32619a3164532ec2141d47@kinotuskanac.hr
DTSTAMP:20260420T195941Z
DTSTART:20200425T200000
DTEND:20200425T220000
SUMMARY:Američki prijatelj
LOCATION:Kino Tuškanac
DESCRIPTION:Der amerikanische Freund, 1977 R: Wim Wenders
END:VEVENT
END:VCALENDAR