BEGIN:VCALENDAR
VERSION:2.0
PRODID:-//Kino Tuškanac//Filmski programi//HR
BEGIN:VEVENT
UID:42f58890da3b07d295059ca613076c1f@kinotuskanac.hr
DTSTAMP:20260425T153325Z
DTSTART:20200503T200000
DTEND:20200503T220000
SUMMARY:Soba 666
LOCATION:Kino Tuškanac
DESCRIPTION:Chambre 666, 1982 R: Wim Wenders
END:VEVENT
END:VCALENDAR