BEGIN:VCALENDAR
VERSION:2.0
PRODID:-//Kino Tuškanac//Filmski programi//HR
BEGIN:VEVENT
UID:148c0f9e9f403c947f4e61657bf53143@kinotuskanac.hr
DTSTAMP:20260419T225347Z
DTSTART:20200509T200000
DTEND:20200509T220000
SUMMARY:Lisabonska priča
LOCATION:Kino Tuškanac
DESCRIPTION:Lisbon Story, 1994 R: Wim Wenders
END:VEVENT
END:VCALENDAR