BEGIN:VCALENDAR
VERSION:2.0
PRODID:-//Kino Tuškanac//Filmski programi//HR
BEGIN:VEVENT
UID:0e8b7623e02bf670640c305eb4c8db2f@kinotuskanac.hr
DTSTAMP:20260420T195905Z
DTSTART:20200513T200000
DTEND:20200513T220000
SUMMARY:Braća Skladanowsky
LOCATION:Kino Tuškanac
DESCRIPTION:Die Gebrüder Skladanowsky, 1995 R: Wim Wenders
END:VEVENT
END:VCALENDAR