BEGIN:VCALENDAR
VERSION:2.0
PRODID:-//Kino Tuškanac//Filmski programi//HR
BEGIN:VEVENT
UID:eb360d14ff5e7dd7ff25850c6cf25512@kinotuskanac.hr
DTSTAMP:20260420T201532Z
DTSTART:20200517T200000
DTEND:20200517T220000
SUMMARY:Daleko, a tako blizu!
LOCATION:Kino Tuškanac
DESCRIPTION:In weiter Ferne, so nah!, Njemačka, 1993 R: Wim Wenders
END:VEVENT
END:VCALENDAR