BEGIN:VCALENDAR
VERSION:2.0
PRODID:-//Kino Tuškanac//Filmski programi//HR
BEGIN:VEVENT
UID:381105237d4ae1f7114fa58dccc3069d@kinotuskanac.hr
DTSTAMP:20260421T182400Z
DTSTART:20200531T200000
DTEND:20200531T220000
SUMMARY:Pričesnici
LOCATION:Kino Tuškanac
DESCRIPTION:Nattvardsgästerna, Švedska, 1962 R: Ingmar Bergman
END:VEVENT
END:VCALENDAR