BEGIN:VCALENDAR
VERSION:2.0
PRODID:-//Kino Tuškanac//Filmski programi//HR
BEGIN:VEVENT
UID:09059d3e1aaeab636c0f4d2c89fe8b45@kinotuskanac.hr
DTSTAMP:20260420T165717Z
DTSTART:20200601T200000
DTEND:20200601T220000
SUMMARY:Veselje
LOCATION:Kino Tuškanac
DESCRIPTION:Till glädje, Švedska, 1950 R: Ingmar Bergman
END:VEVENT
END:VCALENDAR