BEGIN:VCALENDAR
VERSION:2.0
PRODID:-//Kino Tuškanac//Filmski programi//HR
BEGIN:VEVENT
UID:15df0ffc3a98d1588113450d923c2739@kinotuskanac.hr
DTSTAMP:20260421T235441Z
DTSTART:20200603T200000
DTEND:20200603T220000
SUMMARY:Lisinski
LOCATION:Kino Tuškanac
DESCRIPTION:Hrvatska, 1944 R: Oktavijan Miletić
END:VEVENT
END:VCALENDAR