BEGIN:VCALENDAR
VERSION:2.0
PRODID:-//Kino Tuškanac//Filmski programi//HR
BEGIN:VEVENT
UID:635db7b71f54bb9d2d1154efd3f54318@kinotuskanac.hr
DTSTAMP:20260422T033809Z
DTSTART:20200604T200000
DTEND:20200604T220000
SUMMARY:Pjevajte nešto ljubavno
LOCATION:Kino Tuškanac
DESCRIPTION:Hrvatska, 2007 R: Goran Kulenović
END:VEVENT
END:VCALENDAR