BEGIN:VCALENDAR
VERSION:2.0
PRODID:-//Kino Tuškanac//Filmski programi//HR
BEGIN:VEVENT
UID:505f25f53d5ff5e3d6fb44dd82b18af7@kinotuskanac.hr
DTSTAMP:20260422T010524Z
DTSTART:20200611T200000
DTEND:20200611T220000
SUMMARY:Tartüff
LOCATION:Kino Tuškanac
DESCRIPTION:Herr Tartüff, Njemačka, 1925 R: Friedrich Wilhelm Murnau
END:VEVENT
END:VCALENDAR