BEGIN:VCALENDAR
VERSION:2.0
PRODID:-//Kino Tuškanac//Filmski programi//HR
BEGIN:VEVENT
UID:bbd8d5a69cb538cf8677e748ee550cd4@kinotuskanac.hr
DTSTAMP:20260419T225340Z
DTSTART:20200615T200000
DTEND:20200615T220000
SUMMARY:Žigosani
LOCATION:Kino Tuškanac
DESCRIPTION:Die Gezeichneten, Njemačka, 1922 R: Carl Theodor Dreyer
END:VEVENT
END:VCALENDAR