BEGIN:VCALENDAR
VERSION:2.0
PRODID:-//Kino Tuškanac//Filmski programi//HR
BEGIN:VEVENT
UID:fad88a8eaad39a143249c24902eb322f@kinotuskanac.hr
DTSTAMP:20260422T083826Z
DTSTART:20200617T200000
DTEND:20200617T220000
SUMMARY:Nevjesta iz Glomdala
LOCATION:Kino Tuškanac
DESCRIPTION:Glomdalsbruden, Norveška, Švedska, 1926 R: Carl Theodor Dreyer
END:VEVENT
END:VCALENDAR